BEGIN:VCALENDAR
VERSION:2.0
PRODID:-//Era chair in social innovation - ECPv6.15.20//NONSGML v1.0//EN
CALSCALE:GREGORIAN
METHOD:PUBLISH
X-WR-CALNAME:Era chair in social innovation
X-ORIGINAL-URL:https://socialinnova-chair.com
X-WR-CALDESC:Events for Era chair in social innovation
REFRESH-INTERVAL;VALUE=DURATION:PT1H
X-Robots-Tag:noindex
X-PUBLISHED-TTL:PT1H
BEGIN:VTIMEZONE
TZID:Europe/Lisbon
BEGIN:DAYLIGHT
TZOFFSETFROM:+0000
TZOFFSETTO:+0100
TZNAME:WEST
DTSTART:20250330T010000
END:DAYLIGHT
BEGIN:STANDARD
TZOFFSETFROM:+0100
TZOFFSETTO:+0000
TZNAME:WET
DTSTART:20251026T010000
END:STANDARD
BEGIN:DAYLIGHT
TZOFFSETFROM:+0000
TZOFFSETTO:+0100
TZNAME:WEST
DTSTART:20260329T010000
END:DAYLIGHT
BEGIN:STANDARD
TZOFFSETFROM:+0100
TZOFFSETTO:+0000
TZNAME:WET
DTSTART:20261025T010000
END:STANDARD
BEGIN:DAYLIGHT
TZOFFSETFROM:+0000
TZOFFSETTO:+0100
TZNAME:WEST
DTSTART:20270328T010000
END:DAYLIGHT
BEGIN:STANDARD
TZOFFSETFROM:+0100
TZOFFSETTO:+0000
TZNAME:WET
DTSTART:20271031T010000
END:STANDARD
END:VTIMEZONE
BEGIN:VEVENT
DTSTART;TZID=Europe/Lisbon:20260423T103000
DTEND;TZID=Europe/Lisbon:20260423T120000
DTSTAMP:20260423T020942
CREATED:20260326T111951Z
LAST-MODIFIED:20260326T112043Z
UID:2750-1776940200-1776945600@socialinnova-chair.com
SUMMARY:The Community Cohesion Approach as a Tool for Different Contexts and Scales
DESCRIPTION:In this talk\, Suhayla Bazbaz Kuri will reflect on her experience as a community organizer and social activist \n\n\n\nThis workshop aims to provide theoretical and practical knowledge about the community cohesion approach. It will be designed to enable participants to reflect on the Nova School of Business and Economics as a hub for community cohesion\, both within the school community and in Carcavelos\, where it is located. \n\n\n\nWhat to expect? \n\n\n\n\nA reflective\, participatory\, and deliberative activity\n\n\n\nAcquiring tools that can be used beyond the workshop and the school itself\n\n\n\nA space where diversity is recognized and celebrated\, and where problems and solutions are developed collaboratively\n\n\n\nAn activity that emphasizes potential rather than deficits\n\n\n\n\nWhere \n\n\n\nNova School of Business and Economics\, CarcavelosRoom: B131 \n\n\n\nFacilitator \n\n\n\nSuhayla Bazbaz Kuri is a Mexican political scientist dedicated to human rights\, social justice and participatory democracy. She founded Community Cohesion and Social Innovation in 2009 to strengthen community ties and promote inclusive\, rights-based\, community-led development across Mexico. \n\n\n\nShe leads regional initiatives such as #LetThemKnowThatWeKnow\, addressing power and information asymmetries affecting Indigenous and Afro-Mexican peoples\, women\, youth\, people with disabilities and persons in mobility in decisions about their territories and megaprojects. She has facilitated the production of Archipelago\, a podcast on diverse ways to defend rights and territories\, as well as materials in Indigenous languages and accessible formats. She also launched Why they are here?\, focused on corporatization and military integration in the Yucatán Peninsula and expanding to other regions. \n\n\n\nShe participates in Latin American collectives that advocate for authorities\, businesses and financial institutions to meet their human rights obligations\, and engages in demonstrations and dialogues on institutional violence against women. She delivered training to more than 8\,500 stakeholders from public\, private\, civil\, academic and media sectors. \n\n\n\nCheck the Eventbrite here and reserve your spot
URL:https://socialinnova-chair.com/event/the-community-cohesion-approach-as-a-tool-for-different-contexts-and-scales/
ATTACH;FMTTYPE=image/png:https://socialinnova-chair.com/wp-content/uploads/2026/03/ERA-CHAIR-horizontal-7.png
END:VEVENT
END:VCALENDAR