BEGIN:VCALENDAR
VERSION:2.0
PRODID:-//Era chair in social innovation - ECPv6.15.20//NONSGML v1.0//EN
CALSCALE:GREGORIAN
METHOD:PUBLISH
X-WR-CALNAME:Era chair in social innovation
X-ORIGINAL-URL:https://socialinnova-chair.com
X-WR-CALDESC:Events for Era chair in social innovation
REFRESH-INTERVAL;VALUE=DURATION:PT1H
X-Robots-Tag:noindex
X-PUBLISHED-TTL:PT1H
BEGIN:VTIMEZONE
TZID:Europe/Lisbon
BEGIN:DAYLIGHT
TZOFFSETFROM:+0000
TZOFFSETTO:+0100
TZNAME:WEST
DTSTART:20250330T010000
END:DAYLIGHT
BEGIN:STANDARD
TZOFFSETFROM:+0100
TZOFFSETTO:+0000
TZNAME:WET
DTSTART:20251026T010000
END:STANDARD
BEGIN:DAYLIGHT
TZOFFSETFROM:+0000
TZOFFSETTO:+0100
TZNAME:WEST
DTSTART:20260329T010000
END:DAYLIGHT
BEGIN:STANDARD
TZOFFSETFROM:+0100
TZOFFSETTO:+0000
TZNAME:WET
DTSTART:20261025T010000
END:STANDARD
BEGIN:DAYLIGHT
TZOFFSETFROM:+0000
TZOFFSETTO:+0100
TZNAME:WEST
DTSTART:20270328T010000
END:DAYLIGHT
BEGIN:STANDARD
TZOFFSETFROM:+0100
TZOFFSETTO:+0000
TZNAME:WET
DTSTART:20271031T010000
END:STANDARD
END:VTIMEZONE
BEGIN:VEVENT
DTSTART;TZID=Europe/Lisbon:20260409T103000
DTEND;TZID=Europe/Lisbon:20260409T123000
DTSTAMP:20260422T153840
CREATED:20260407T145239Z
LAST-MODIFIED:20260407T145324Z
UID:2764-1775730600-1775737800@socialinnova-chair.com
SUMMARY:Workshop: Plantas & Neurociência | Plants & Neuroscience
DESCRIPTION:Why do plants make us feel so good\, and what can we learn from them? \n\n\n\nThis 2-hour workshop explores what happens in our brain when we engage with nature \, covering attention\, creativity\, stress regulation\, mood and relationships. We’ll combine neuroscience insights with hands-on gardening\, so you leave with both understanding and practical tools to connect more deeply with plants and nature. \n\n\n\nNo science background needed\, just curiosity and a willingness to get your hands in soil. \n\n\n\nAbout the facilitator\n\n\n\nMarion Oberhuber\,Neuroscience PhD and founder of The Plant Wisdom Project. Works in mental health tech and on the side\, loves exploring how plants restore attention\, unlock creativity and help us think differently. Follow @plantwisdomproject for more.  \n\n\n\n \n\n\n\nGet your spot here – Workshop: Plantas & Neurociência | Plants & Neuroscience
URL:https://socialinnova-chair.com/event/workshop-plantas-neurociencia-plants-neuroscience/
ATTACH;FMTTYPE=image/webp:https://socialinnova-chair.com/wp-content/uploads/2026/04/image.webp
END:VEVENT
END:VCALENDAR