BEGIN:VCALENDAR
VERSION:2.0
PRODID:-//Era chair in social innovation - ECPv6.15.20//NONSGML v1.0//EN
CALSCALE:GREGORIAN
METHOD:PUBLISH
X-ORIGINAL-URL:https://socialinnova-chair.com
X-WR-CALDESC:Events for Era chair in social innovation
REFRESH-INTERVAL;VALUE=DURATION:PT1H
X-Robots-Tag:noindex
X-PUBLISHED-TTL:PT1H
BEGIN:VTIMEZONE
TZID:Europe/Lisbon
BEGIN:DAYLIGHT
TZOFFSETFROM:+0000
TZOFFSETTO:+0100
TZNAME:WEST
DTSTART:20250330T010000
END:DAYLIGHT
BEGIN:STANDARD
TZOFFSETFROM:+0100
TZOFFSETTO:+0000
TZNAME:WET
DTSTART:20251026T010000
END:STANDARD
BEGIN:DAYLIGHT
TZOFFSETFROM:+0000
TZOFFSETTO:+0100
TZNAME:WEST
DTSTART:20260329T010000
END:DAYLIGHT
BEGIN:STANDARD
TZOFFSETFROM:+0100
TZOFFSETTO:+0000
TZNAME:WET
DTSTART:20261025T010000
END:STANDARD
BEGIN:DAYLIGHT
TZOFFSETFROM:+0000
TZOFFSETTO:+0100
TZNAME:WEST
DTSTART:20270328T010000
END:DAYLIGHT
BEGIN:STANDARD
TZOFFSETFROM:+0100
TZOFFSETTO:+0000
TZNAME:WET
DTSTART:20271031T010000
END:STANDARD
END:VTIMEZONE
BEGIN:VEVENT
DTSTART;TZID=Europe/Lisbon:20260226T100000
DTEND;TZID=Europe/Lisbon:20260226T130000
DTSTAMP:20260422T171634
CREATED:20260218T211645Z
LAST-MODIFIED:20260225T112707Z
UID:2692-1772100000-1772110800@socialinnova-chair.com
SUMMARY:EVERY THURSDAY: Open Garden – Guardians’ Seedling Maternity
DESCRIPTION:The Community Garden at Nova SBE is a living laboratory for regenerative community design. Join our Open Garden Mornings and help care for the Seedling Maternity\, our plant nursery that grows seedlings for the garden. \n\n\n\nContribute hands-on by sowing seeds\, transplanting seedlings\, watering\, or helping maintain the garden infrastructure. Participation is flexible\, join whenever you can\, stay for as long as you like\, and if you are a student enroled at the Role to Play\, earn 3 Role to Play points per 2-hour session. \n\n\n\nNo prior experience needed\, just enthusiasm and a willingness to get your hands in the soil!
URL:https://socialinnova-chair.com/event/every-thursday-open-garden-guardians-seedling-maternity/
LOCATION:Community Garden at Nova SBE\, Rua da Holanda\, Carcavelos\, Cascais\, 2775-405\, Portugal
ATTACH;FMTTYPE=image/png:https://socialinnova-chair.com/wp-content/uploads/2026/02/OpenGardenThursdays_march.png
ORGANIZER;CN="DESIS Lab and ERA Chair in Social Innovation at NovaSBE":MAILTO:erachair@novasbe.pt
END:VEVENT
BEGIN:VEVENT
DTSTART;TZID=Europe/Lisbon:20260226T123000
DTEND;TZID=Europe/Lisbon:20260226T140000
DTSTAMP:20260422T171634
CREATED:20260127T194612Z
LAST-MODIFIED:20260211T115201Z
UID:2640-1772109000-1772114400@socialinnova-chair.com
SUMMARY:Design Gym - Collaborative Ideation: Turning Ideas into Impactful Solutions
DESCRIPTION:In this hands-on workshop\, we’ll explore practical ideation techniques to generate creative solutions that are grounded in research\, user needs\, and real-world constraints. \n\n\n\nWhat to Expect \n\n\n\n\nLearning about ideation principles and some tools for generating creative ideas\n\n\n\nCase studies\n\n\n\nHands-on activity in teams to practice collaborative idea generation\n\n\n\n\nThe new Design Gym is a series of fast-paced\, hands-on workshops designed to help you build and expand your design toolkit. Each 90-minute session focuses on practical\, in-demand skills across a range of design practices. \n\n\n\nBut it doesn’t stop there. After each workshop\, participants gain access to dedicated office hours where they can get personalized feedback from the facilitators\, explore how to apply their new skills to real-world projects\, and develop stronger portfolios and case studies. \n\n\n\nWhether you’re sharpening your current capabilities or breaking into new territory\, the Design Gym is here to help you confidently practice\, explain\, and showcase your growth as a designer. \n\n\n\nRegister here through Eventbrit Office Gym → March 4Facilitator: Joana Lima Villas \n\n\n\nPRICENOVA Students = 3eurosExternal Public = 5 euros \n\n\n\nJoana Lima Villas is Head of Design and a Senior UX Designer with over 12 years of experience building products\, teams\, and design systems across Web3\, fintech\, media\, and technology. She works at the intersection of strategy and execution\, focusing on scaling design\, developing people\, and embedding design thinking within organizations. She is passionate about leadership grounded in clarity\, empathy\, and collaboration. Outside of work\, her three children remind her daily that curiosity and emotion are the best tools a designer can have.  \n\n\n\nDESIS Lab and ERA Chair in Social Innovation at NovaSBE \n\n\n\nerachair@novasbe.pt
URL:https://socialinnova-chair.com/event/design-gym-collaborative-ideation-turning-ideas-into-impactful-solutions/
LOCATION:Nova SBE\, Rua da Holanda\, Lisbon\, Lisbon
ATTACH;FMTTYPE=image/jpeg:https://socialinnova-chair.com/wp-content/uploads/2026/01/https___cdn.evbuc_.com_images_1174560497_802853376283_1_original.jpg
END:VEVENT
END:VCALENDAR